Package: HiLDA Version: 1.18.0 Command: /Library/Frameworks/R.framework/Resources/bin/R CMD build --keep-empty-dirs --no-resave-data HiLDA StartedAt: 2024-06-09 22:57:37 -0400 (Sun, 09 Jun 2024) EndedAt: 2024-06-09 23:02:05 -0400 (Sun, 09 Jun 2024) EllapsedTime: 268.0 seconds RetCode: 0 Status: OK PackageFile: HiLDA_1.18.0.tar.gz PackageFileSize: 2.46 MiB