Package: HiContacts Version: 1.6.0 Command: chmod a+r HiContacts -R && E:\biocbuild\bbs-3.19-bioc\R\bin\R.exe CMD build --keep-empty-dirs --no-resave-data HiContacts StartedAt: 2024-10-16 19:41:45 -0400 (Wed, 16 Oct 2024) EndedAt: 2024-10-16 19:52:39 -0400 (Wed, 16 Oct 2024) EllapsedTime: 653.9 seconds RetCode: 0 Status: OK PackageFile: HiContacts_1.6.0.tar.gz PackageFileSize: 3.992 MiB