Package: HiContacts Version: 1.6.0 Command: /Library/Frameworks/R.framework/Resources/bin/R CMD build --keep-empty-dirs --no-resave-data HiContacts StartedAt: 2024-10-16 19:59:55 -0400 (Wed, 16 Oct 2024) EndedAt: 2024-10-16 20:13:12 -0400 (Wed, 16 Oct 2024) EllapsedTime: 797.1 seconds RetCode: 0 Status: OK PackageFile: HiContacts_1.6.0.tar.gz PackageFileSize: 5.374 MiB