Package: HiCcompare Version: 1.26.0 Command: E:\biocbuild\bbs-3.19-bioc\R\bin\R.exe CMD INSTALL HiCcompare StartedAt: 2024-10-16 16:21:48 -0400 (Wed, 16 Oct 2024) EndedAt: 2024-10-16 16:22:47 -0400 (Wed, 16 Oct 2024) EllapsedTime: 59.4 seconds RetCode: 0 Status: OK