Package: HiCcompare Version: 1.26.0 Command: /home/biocbuild/bbs-3.19-bioc/R/bin/R CMD INSTALL HiCcompare StartedAt: 2024-10-16 16:01:21 -0400 (Wed, 16 Oct 2024) EndedAt: 2024-10-16 16:01:56 -0400 (Wed, 16 Oct 2024) EllapsedTime: 34.8 seconds RetCode: 0 Status: OK