Package: HiCcompare Version: 1.26.0 Command: /Library/Frameworks/R.framework/Resources/bin/R CMD INSTALL HiCcompare StartedAt: 2024-10-16 15:27:51 -0400 (Wed, 16 Oct 2024) EndedAt: 2024-10-16 15:29:05 -0400 (Wed, 16 Oct 2024) EllapsedTime: 74.1 seconds RetCode: 0 Status: OK