Package: HiCcompare Version: 1.26.0 Command: /home/biocbuild/R/R-beta-2024-04-15_r86425/bin/R CMD build --keep-empty-dirs --no-resave-data HiCcompare StartedAt: 2024-05-09 00:55:51 -0000 (Thu, 09 May 2024) EndedAt: 2024-05-09 00:57:05 -0000 (Thu, 09 May 2024) EllapsedTime: 74.1 seconds RetCode: 0 Status: OK PackageFile: HiCcompare_1.26.0.tar.gz PackageFileSize: 3.357 MiB