Package: HiCcompare Version: 1.26.0 Command: /Library/Frameworks/R.framework/Resources/bin/R CMD INSTALL HiCcompare StartedAt: 2024-10-16 16:22:08 -0400 (Wed, 16 Oct 2024) EndedAt: 2024-10-16 16:22:55 -0400 (Wed, 16 Oct 2024) EllapsedTime: 46.4 seconds RetCode: 0 Status: OK