Package: HiCDOC Version: 1.6.0 Command: E:\biocbuild\bbs-3.19-bioc\R\bin\R.exe CMD INSTALL HiCDOC StartedAt: 2024-10-16 16:24:38 -0400 (Wed, 16 Oct 2024) EndedAt: 2024-10-16 16:25:38 -0400 (Wed, 16 Oct 2024) EllapsedTime: 59.8 seconds RetCode: 0 Status: OK