Package: HiCDOC Version: 1.6.0 Command: rm -rf HiCDOC.buildbin-libdir && mkdir HiCDOC.buildbin-libdir && E:\biocbuild\bbs-3.19-bioc\R\bin\R.exe CMD INSTALL --build --library=HiCDOC.buildbin-libdir HiCDOC_1.6.0.tar.gz StartedAt: 2024-10-17 07:57:10 -0400 (Thu, 17 Oct 2024) EndedAt: 2024-10-17 07:58:44 -0400 (Thu, 17 Oct 2024) EllapsedTime: 94.0 seconds RetCode: 0 Status: OK PackageFile: HiCDOC_1.6.0.zip PackageFileSize: 3.292 MiB