Package: HiCDOC Version: 1.6.0 Command: /home/biocbuild/bbs-3.19-bioc/R/bin/R CMD INSTALL HiCDOC StartedAt: 2024-10-16 16:02:23 -0400 (Wed, 16 Oct 2024) EndedAt: 2024-10-16 16:03:02 -0400 (Wed, 16 Oct 2024) EllapsedTime: 38.6 seconds RetCode: 0 Status: OK