Package: HiCDCPlus Version: 1.12.0 Command: /Library/Frameworks/R.framework/Resources/bin/R CMD build --keep-empty-dirs --no-resave-data HiCDCPlus StartedAt: 2024-10-16 19:59:38 -0400 (Wed, 16 Oct 2024) EndedAt: 2024-10-16 20:05:05 -0400 (Wed, 16 Oct 2024) EllapsedTime: 326.8 seconds RetCode: 0 Status: OK PackageFile: HiCDCPlus_1.12.0.tar.gz PackageFileSize: 1.189 MiB