Package: HiCDCPlus Version: 1.12.0 Command: /Library/Frameworks/R.framework/Resources/bin/R CMD INSTALL HiCDCPlus StartedAt: 2024-06-09 16:31:41 -0400 (Sun, 09 Jun 2024) EndedAt: 2024-06-09 16:32:49 -0400 (Sun, 09 Jun 2024) EllapsedTime: 68.2 seconds RetCode: 0 Status: OK