Package: HiCDCPlus Version: 1.12.0 Command: rm -rf HiCDCPlus.buildbin-libdir && mkdir HiCDCPlus.buildbin-libdir && /Users/biocbuild/BBS/utils/build-universal.sh HiCDCPlus_1.12.0.tar.gz /Library/Frameworks/R.framework/Resources/bin/R HiCDCPlus.buildbin-libdir StartedAt: 2024-06-11 11:35:30 -0400 (Tue, 11 Jun 2024) EndedAt: 2024-06-11 11:37:06 -0400 (Tue, 11 Jun 2024) EllapsedTime: 95.3 seconds RetCode: 0 Status: OK PackageFile: HiCDCPlus_1.12.0.tgz PackageFileSize: 1.414 MiB