Package: HiCDCPlus Version: 1.12.0 Command: /Library/Frameworks/R.framework/Resources/bin/R CMD INSTALL HiCDCPlus StartedAt: 2024-10-16 17:30:30 -0400 (Wed, 16 Oct 2024) EndedAt: 2024-10-16 17:31:20 -0400 (Wed, 16 Oct 2024) EllapsedTime: 49.7 seconds RetCode: 0 Status: OK