Package: HiCDCPlus Version: 1.12.0 Command: /Library/Frameworks/R.framework/Resources/bin/R CMD check --install=check:HiCDCPlus.install-out.txt --library=/Library/Frameworks/R.framework/Resources/library --no-vignettes --timings HiCDCPlus_1.12.0.tar.gz StartedAt: 2024-10-18 00:29:45 -0400 (Fri, 18 Oct 2024) EndedAt: 2024-10-18 00:36:32 -0400 (Fri, 18 Oct 2024) EllapsedTime: 407.1 seconds RetCode: 0 Status: OK CheckDir: HiCDCPlus.Rcheck Warnings: 0