Package: HiCBricks Version: 1.22.0 Command: chmod a+r HiCBricks -R && E:\biocbuild\bbs-3.19-bioc\R\bin\R.exe CMD build --keep-empty-dirs --no-resave-data HiCBricks StartedAt: 2024-10-16 19:40:50 -0400 (Wed, 16 Oct 2024) EndedAt: 2024-10-16 19:42:42 -0400 (Wed, 16 Oct 2024) EllapsedTime: 112.1 seconds RetCode: 0 Status: OK PackageFile: HiCBricks_1.22.0.tar.gz PackageFileSize: 4.406 MiB