Package: HiCBricks Version: 1.22.0 Command: rm -rf HiCBricks.buildbin-libdir && mkdir HiCBricks.buildbin-libdir && F:\biocbuild\bbs-3.19-bioc\R\bin\R.exe CMD INSTALL --build --library=HiCBricks.buildbin-libdir HiCBricks_1.22.0.tar.gz StartedAt: 2024-06-27 08:20:50 -0400 (Thu, 27 Jun 2024) EndedAt: 2024-06-27 08:21:23 -0400 (Thu, 27 Jun 2024) EllapsedTime: 32.6 seconds RetCode: 0 Status: OK PackageFile: HiCBricks_1.22.0.zip PackageFileSize: 4.895 MiB