Package: HiCBricks Version: 1.22.0 Command: rm -rf HiCBricks.buildbin-libdir && mkdir HiCBricks.buildbin-libdir && /Users/biocbuild/BBS/utils/build-universal.sh HiCBricks_1.22.0.tar.gz /Library/Frameworks/R.framework/Resources/bin/R HiCBricks.buildbin-libdir StartedAt: 2024-06-10 00:22:05 -0400 (Mon, 10 Jun 2024) EndedAt: 2024-06-10 00:22:32 -0400 (Mon, 10 Jun 2024) EllapsedTime: 26.9 seconds RetCode: 0 Status: OK PackageFile: HiCBricks_1.22.0.tgz PackageFileSize: 9.086 MiB