Package: HiCBricks Version: 1.22.0 Command: /Library/Frameworks/R.framework/Resources/bin/R CMD INSTALL HiCBricks StartedAt: 2024-06-09 16:05:58 -0400 (Sun, 09 Jun 2024) EndedAt: 2024-06-09 16:06:22 -0400 (Sun, 09 Jun 2024) EllapsedTime: 24.0 seconds RetCode: 0 Status: OK