Package: HiCBricks Version: 1.22.0 Command: /Library/Frameworks/R.framework/Resources/bin/R CMD check --install=check:HiCBricks.install-out.txt --library=/Library/Frameworks/R.framework/Resources/library --no-vignettes --timings HiCBricks_1.22.0.tar.gz StartedAt: 2024-06-10 18:25:51 -0400 (Mon, 10 Jun 2024) EndedAt: 2024-06-10 18:30:33 -0400 (Mon, 10 Jun 2024) EllapsedTime: 281.9 seconds RetCode: 0 Status: OK CheckDir: HiCBricks.Rcheck Warnings: 0