Package: HiCBricks Version: 1.22.0 Command: rm -rf HiCBricks.buildbin-libdir && mkdir HiCBricks.buildbin-libdir && /Users/biocbuild/BBS/utils/build-universal.sh HiCBricks_1.22.0.tar.gz /Library/Frameworks/R.framework/Resources/bin/R HiCBricks.buildbin-libdir StartedAt: 2024-06-11 11:35:07 -0400 (Tue, 11 Jun 2024) EndedAt: 2024-06-11 11:35:46 -0400 (Tue, 11 Jun 2024) EllapsedTime: 39.0 seconds RetCode: 0 Status: OK PackageFile: HiCBricks_1.22.0.tgz PackageFileSize: 9.087 MiB