Package: HiCBricks Version: 1.22.0 Command: /Library/Frameworks/R.framework/Resources/bin/R CMD build --keep-empty-dirs --no-resave-data HiCBricks StartedAt: 2024-10-17 02:19:28 -0400 (Thu, 17 Oct 2024) EndedAt: 2024-10-17 02:21:14 -0400 (Thu, 17 Oct 2024) EllapsedTime: 105.7 seconds RetCode: 0 Status: OK PackageFile: HiCBricks_1.22.0.tar.gz PackageFileSize: 8.598 MiB