Package: Herper Version: 1.14.0 Command: chmod a+r Herper -R && E:\biocbuild\bbs-3.19-bioc\R\bin\R.exe CMD build --keep-empty-dirs --no-resave-data Herper StartedAt: 2024-10-16 19:40:35 -0400 (Wed, 16 Oct 2024) EndedAt: 2024-10-16 19:40:52 -0400 (Wed, 16 Oct 2024) EllapsedTime: 17.3 seconds RetCode: 0 Status: OK PackageFile: Herper_1.14.0.tar.gz PackageFileSize: 407.8 KiB