Package: Herper Version: 1.14.0 Command: rm -rf Herper.buildbin-libdir && mkdir Herper.buildbin-libdir && E:\biocbuild\bbs-3.19-bioc\R\bin\R.exe CMD INSTALL --build --library=Herper.buildbin-libdir Herper_1.14.0.tar.gz StartedAt: 2024-10-17 07:56:53 -0400 (Thu, 17 Oct 2024) EndedAt: 2024-10-17 07:57:09 -0400 (Thu, 17 Oct 2024) EllapsedTime: 15.2 seconds RetCode: 0 Status: OK PackageFile: Herper_1.14.0.zip PackageFileSize: 466.2 KiB