Package: Herper Version: 1.14.0 Command: F:\biocbuild\bbs-3.19-bioc\R\bin\R.exe CMD check --no-multiarch --install=check:Herper.install-out.txt --library=F:\biocbuild\bbs-3.19-bioc\R\library --no-vignettes --timings Herper_1.14.0.tar.gz StartedAt: 2024-06-27 02:31:15 -0400 (Thu, 27 Jun 2024) EndedAt: 2024-06-27 02:32:19 -0400 (Thu, 27 Jun 2024) EllapsedTime: 63.5 seconds RetCode: 1 Status: ERROR CheckDir: Herper.Rcheck Warnings: NA