Package: Herper Version: 1.14.0 Command: rm -rf Herper.buildbin-libdir && mkdir Herper.buildbin-libdir && F:\biocbuild\bbs-3.19-bioc\R\bin\R.exe CMD INSTALL --build --library=Herper.buildbin-libdir Herper_1.14.0.tar.gz StartedAt: 2024-06-27 08:20:40 -0400 (Thu, 27 Jun 2024) EndedAt: 2024-06-27 08:20:52 -0400 (Thu, 27 Jun 2024) EllapsedTime: 11.5 seconds RetCode: 0 Status: OK PackageFile: Herper_1.14.0.zip PackageFileSize: 466.2 KiB