Package: Herper Version: 1.14.0 Command: /home/biocbuild/bbs-3.19-bioc/R/bin/R CMD INSTALL Herper StartedAt: 2024-10-16 15:53:21 -0400 (Wed, 16 Oct 2024) EndedAt: 2024-10-16 15:53:28 -0400 (Wed, 16 Oct 2024) EllapsedTime: 7.8 seconds RetCode: 0 Status: OK