Package: Herper Version: 1.14.0 Command: /home/biocbuild/bbs-3.19-bioc/R/bin/R CMD check --install=check:Herper.install-out.txt --library=/home/biocbuild/bbs-3.19-bioc/R/site-library --timings Herper_1.14.0.tar.gz StartedAt: 2024-10-17 01:19:06 -0400 (Thu, 17 Oct 2024) EndedAt: 2024-10-17 01:23:00 -0400 (Thu, 17 Oct 2024) EllapsedTime: 234.4 seconds RetCode: 0 Status: OK CheckDir: Herper.Rcheck Warnings: 0