Package: Herper Version: 1.14.0 Command: /Library/Frameworks/R.framework/Resources/bin/R CMD build --keep-empty-dirs --no-resave-data Herper StartedAt: 2024-10-16 19:57:21 -0400 (Wed, 16 Oct 2024) EndedAt: 2024-10-16 19:57:48 -0400 (Wed, 16 Oct 2024) EllapsedTime: 26.9 seconds RetCode: 0 Status: OK PackageFile: Herper_1.14.0.tar.gz PackageFileSize: 407.8 KiB