Package: Herper Version: 1.14.0 Command: /Library/Frameworks/R.framework/Resources/bin/R CMD INSTALL Herper StartedAt: 2024-06-09 15:07:08 -0400 (Sun, 09 Jun 2024) EndedAt: 2024-06-09 15:07:34 -0400 (Sun, 09 Jun 2024) EllapsedTime: 25.6 seconds RetCode: 0 Status: OK