Package: Herper Version: 1.14.0 Command: rm -rf Herper.buildbin-libdir && mkdir Herper.buildbin-libdir && /Users/biocbuild/BBS/utils/build-universal.sh Herper_1.14.0.tar.gz /Library/Frameworks/R.framework/Resources/bin/R Herper.buildbin-libdir StartedAt: 2024-06-10 00:21:59 -0400 (Mon, 10 Jun 2024) EndedAt: 2024-06-10 00:22:09 -0400 (Mon, 10 Jun 2024) EllapsedTime: 10.2 seconds RetCode: 0 Status: OK PackageFile: Herper_1.14.0.tgz PackageFileSize: 460.2 KiB