Package: Herper Version: 1.14.0 Command: /home/biocbuild/R/R-beta-2024-04-15_r86425/bin/R CMD check --install=check:Herper.install-out.txt --library=/home/biocbuild/R/R-beta-2024-04-15_r86425/site-library --no-vignettes --timings Herper_1.14.0.tar.gz StartedAt: 2024-05-09 08:16:54 -0000 (Thu, 09 May 2024) EndedAt: 2024-05-09 08:17:51 -0000 (Thu, 09 May 2024) EllapsedTime: 57.1 seconds RetCode: 1 Status: ERROR CheckDir: Herper.Rcheck Warnings: NA