Package: Herper Version: 1.14.0 Command: /home/biocbuild/R/R-beta-2024-04-15_r86425/bin/R CMD build --keep-empty-dirs --no-resave-data Herper StartedAt: 2024-05-09 00:54:41 -0000 (Thu, 09 May 2024) EndedAt: 2024-05-09 00:54:53 -0000 (Thu, 09 May 2024) EllapsedTime: 12.0 seconds RetCode: 0 Status: OK PackageFile: Herper_1.14.0.tar.gz PackageFileSize: 433.7 KiB