Package: Herper Version: 1.14.0 Command: /Library/Frameworks/R.framework/Resources/bin/R CMD check --install=check:Herper.install-out.txt --library=/Library/Frameworks/R.framework/Resources/library --no-vignettes --timings Herper_1.14.0.tar.gz StartedAt: 2024-06-10 18:23:48 -0400 (Mon, 10 Jun 2024) EndedAt: 2024-06-10 18:25:32 -0400 (Mon, 10 Jun 2024) EllapsedTime: 104.3 seconds RetCode: 1 Status: ERROR CheckDir: Herper.Rcheck Warnings: NA