Package: Herper Version: 1.14.0 Command: /Library/Frameworks/R.framework/Resources/bin/R CMD build --keep-empty-dirs --no-resave-data Herper StartedAt: 2024-06-09 22:49:46 -0400 (Sun, 09 Jun 2024) EndedAt: 2024-06-09 22:50:03 -0400 (Sun, 09 Jun 2024) EllapsedTime: 16.6 seconds RetCode: 0 Status: OK PackageFile: Herper_1.14.0.tar.gz PackageFileSize: 407.8 KiB