Package: Herper Version: 1.14.0 Command: /Library/Frameworks/R.framework/Resources/bin/R CMD check --install=check:Herper.install-out.txt --library=/Library/Frameworks/R.framework/Resources/library --no-vignettes --timings Herper_1.14.0.tar.gz StartedAt: 2024-10-18 00:25:28 -0400 (Fri, 18 Oct 2024) EndedAt: 2024-10-18 00:26:26 -0400 (Fri, 18 Oct 2024) EllapsedTime: 58.8 seconds RetCode: 1 Status: ERROR CheckDir: Herper.Rcheck Warnings: NA