Package: Herper Version: 1.14.0 Command: rm -rf Herper.buildbin-libdir && mkdir Herper.buildbin-libdir && /Users/biocbuild/BBS/utils/build-universal.sh Herper_1.14.0.tar.gz /Library/Frameworks/R.framework/Resources/bin/R Herper.buildbin-libdir StartedAt: 2024-10-18 18:54:10 -0400 (Fri, 18 Oct 2024) EndedAt: 2024-10-18 18:54:20 -0400 (Fri, 18 Oct 2024) EllapsedTime: 10.3 seconds RetCode: 0 Status: OK PackageFile: Herper_1.14.0.tgz PackageFileSize: 460.3 KiB