Package: HelloRanges Version: 1.30.0 Command: /home/biocbuild/R/R-beta-2024-04-15_r86425/bin/R CMD check --install=check:HelloRanges.install-out.txt --library=/home/biocbuild/R/R-beta-2024-04-15_r86425/site-library --no-vignettes --timings HelloRanges_1.30.0.tar.gz StartedAt: 2024-05-09 08:15:41 -0000 (Thu, 09 May 2024) EndedAt: 2024-05-09 08:22:17 -0000 (Thu, 09 May 2024) EllapsedTime: 395.7 seconds RetCode: 0 Status: OK CheckDir: HelloRanges.Rcheck Warnings: 0