Package: Heatplus Version: 3.12.0 Command: E:\biocbuild\bbs-3.19-bioc\R\bin\R.exe CMD check --no-multiarch --install=check:Heatplus.install-out.txt --library=E:\biocbuild\bbs-3.19-bioc\R\library --no-vignettes --timings Heatplus_3.12.0.tar.gz StartedAt: 2024-10-17 02:15:06 -0400 (Thu, 17 Oct 2024) EndedAt: 2024-10-17 02:15:38 -0400 (Thu, 17 Oct 2024) EllapsedTime: 31.6 seconds RetCode: 0 Status: OK CheckDir: Heatplus.Rcheck Warnings: 0