Package: Heatplus Version: 3.12.0 Command: chmod a+r Heatplus -R && F:\biocbuild\bbs-3.19-bioc\R\bin\R.exe CMD build --keep-empty-dirs --no-resave-data Heatplus StartedAt: 2024-06-26 19:26:53 -0400 (Wed, 26 Jun 2024) EndedAt: 2024-06-26 19:27:20 -0400 (Wed, 26 Jun 2024) EllapsedTime: 27.6 seconds RetCode: 0 Status: OK PackageFile: Heatplus_3.12.0.tar.gz PackageFileSize: 862.4 KiB