Package: Heatplus Version: 3.12.0 Command: rm -rf Heatplus.buildbin-libdir && mkdir Heatplus.buildbin-libdir && F:\biocbuild\bbs-3.19-bioc\R\bin\R.exe CMD INSTALL --build --library=Heatplus.buildbin-libdir Heatplus_3.12.0.tar.gz StartedAt: 2024-06-27 08:20:28 -0400 (Thu, 27 Jun 2024) EndedAt: 2024-06-27 08:20:36 -0400 (Thu, 27 Jun 2024) EllapsedTime: 7.9 seconds RetCode: 0 Status: OK PackageFile: Heatplus_3.12.0.zip PackageFileSize: 951.3 KiB