Package: Heatplus Version: 3.12.0 Command: /Library/Frameworks/R.framework/Resources/bin/R CMD build --keep-empty-dirs --no-resave-data Heatplus StartedAt: 2024-10-16 19:55:40 -0400 (Wed, 16 Oct 2024) EndedAt: 2024-10-16 19:56:36 -0400 (Wed, 16 Oct 2024) EllapsedTime: 56.2 seconds RetCode: 0 Status: OK PackageFile: Heatplus_3.12.0.tar.gz PackageFileSize: 1.179 MiB