Package: Heatplus Version: 3.12.0 Command: rm -rf Heatplus.buildbin-libdir && mkdir Heatplus.buildbin-libdir && /Users/biocbuild/BBS/utils/build-universal.sh Heatplus_3.12.0.tar.gz /Library/Frameworks/R.framework/Resources/bin/R Heatplus.buildbin-libdir StartedAt: 2024-10-17 16:20:27 -0400 (Thu, 17 Oct 2024) EndedAt: 2024-10-17 16:20:35 -0400 (Thu, 17 Oct 2024) EllapsedTime: 8.6 seconds RetCode: 0 Status: OK PackageFile: Heatplus_3.12.0.tgz PackageFileSize: 1.262 MiB