Package: Heatplus Version: 3.12.0 Command: /home/biocbuild/R/R-beta-2024-04-15_r86425/bin/R CMD build --keep-empty-dirs --no-resave-data Heatplus StartedAt: 2024-05-09 00:54:10 -0000 (Thu, 09 May 2024) EndedAt: 2024-05-09 00:54:29 -0000 (Thu, 09 May 2024) EllapsedTime: 18.0 seconds RetCode: 0 Status: OK PackageFile: Heatplus_3.12.0.tar.gz PackageFileSize: 1.154 MiB