Package: Heatplus Version: 3.12.0 Command: /Library/Frameworks/R.framework/Resources/bin/R CMD INSTALL Heatplus StartedAt: 2024-10-16 15:36:51 -0400 (Wed, 16 Oct 2024) EndedAt: 2024-10-16 15:36:56 -0400 (Wed, 16 Oct 2024) EllapsedTime: 4.9 seconds RetCode: 0 Status: OK