Package: Harshlight Version: 1.76.0 Command: rm -rf Harshlight.buildbin-libdir && mkdir Harshlight.buildbin-libdir && /Users/biocbuild/BBS/utils/build-universal.sh Harshlight_1.76.0.tar.gz /Library/Frameworks/R.framework/Resources/bin/R Harshlight.buildbin-libdir StartedAt: 2024-10-17 16:20:14 -0400 (Thu, 17 Oct 2024) EndedAt: 2024-10-17 16:20:46 -0400 (Thu, 17 Oct 2024) EllapsedTime: 32.5 seconds RetCode: 0 Status: OK PackageFile: Harshlight_1.76.0.tgz PackageFileSize: 308.1 KiB