Package: Harshlight Version: 1.76.0 Command: rm -rf Harshlight.buildbin-libdir && mkdir Harshlight.buildbin-libdir && /Users/biocbuild/BBS/utils/build-universal.sh Harshlight_1.76.0.tar.gz /Library/Frameworks/R.framework/Resources/bin/R Harshlight.buildbin-libdir StartedAt: 2024-10-18 18:53:21 -0400 (Fri, 18 Oct 2024) EndedAt: 2024-10-18 18:53:40 -0400 (Fri, 18 Oct 2024) EllapsedTime: 19.5 seconds RetCode: 0 Status: OK PackageFile: Harshlight_1.76.0.tgz PackageFileSize: 307.9 KiB