Package: Harshlight Version: 1.76.0 Maintainer: Maurizio Pellegrino MaintainerEmail: mpellegri at berkeley.edu git_url: https://git.bioconductor.org/packages/Harshlight git_branch: RELEASE_3_19 git_last_commit: 22e2701 git_last_commit_date: 2024-04-30 10:15:38 -0400 (Tue, 30 Apr 2024)