Package: HarmonizR Version: 1.2.0 Command: /Library/Frameworks/R.framework/Resources/bin/R CMD build --keep-empty-dirs --no-resave-data HarmonizR StartedAt: 2024-10-16 19:54:38 -0400 (Wed, 16 Oct 2024) EndedAt: 2024-10-16 19:55:12 -0400 (Wed, 16 Oct 2024) EllapsedTime: 33.5 seconds RetCode: 0 Status: OK PackageFile: HarmonizR_1.2.0.tar.gz PackageFileSize: 50.45 KiB